BEGIN:VCALENDAR
VERSION:2.0
PRODID:-//Our Lessons Learned - ECPv6.15.20//NONSGML v1.0//EN
CALSCALE:GREGORIAN
METHOD:PUBLISH
X-WR-CALNAME:Our Lessons Learned
X-ORIGINAL-URL:https://ourlessonslearned.org
X-WR-CALDESC:Events for Our Lessons Learned
REFRESH-INTERVAL;VALUE=DURATION:PT1H
X-Robots-Tag:noindex
X-PUBLISHED-TTL:PT1H
BEGIN:VTIMEZONE
TZID:America/New_York
BEGIN:DAYLIGHT
TZOFFSETFROM:-0500
TZOFFSETTO:-0400
TZNAME:EDT
DTSTART:20230312T070000
END:DAYLIGHT
BEGIN:STANDARD
TZOFFSETFROM:-0400
TZOFFSETTO:-0500
TZNAME:EST
DTSTART:20231105T060000
END:STANDARD
BEGIN:DAYLIGHT
TZOFFSETFROM:-0500
TZOFFSETTO:-0400
TZNAME:EDT
DTSTART:20240310T070000
END:DAYLIGHT
BEGIN:STANDARD
TZOFFSETFROM:-0400
TZOFFSETTO:-0500
TZNAME:EST
DTSTART:20241103T060000
END:STANDARD
BEGIN:DAYLIGHT
TZOFFSETFROM:-0500
TZOFFSETTO:-0400
TZNAME:EDT
DTSTART:20250309T070000
END:DAYLIGHT
BEGIN:STANDARD
TZOFFSETFROM:-0400
TZOFFSETTO:-0500
TZNAME:EST
DTSTART:20251102T060000
END:STANDARD
BEGIN:DAYLIGHT
TZOFFSETFROM:-0500
TZOFFSETTO:-0400
TZNAME:EDT
DTSTART:20260308T070000
END:DAYLIGHT
BEGIN:STANDARD
TZOFFSETFROM:-0400
TZOFFSETTO:-0500
TZNAME:EST
DTSTART:20261101T060000
END:STANDARD
BEGIN:DAYLIGHT
TZOFFSETFROM:-0500
TZOFFSETTO:-0400
TZNAME:EDT
DTSTART:20270314T070000
END:DAYLIGHT
BEGIN:STANDARD
TZOFFSETFROM:-0400
TZOFFSETTO:-0500
TZNAME:EST
DTSTART:20271107T060000
END:STANDARD
END:VTIMEZONE
BEGIN:VEVENT
DTSTART;TZID=America/New_York:20241107T080000
DTEND;TZID=America/New_York:20241107T120000
DTSTAMP:20260425T120204
CREATED:20240510T232552Z
LAST-MODIFIED:20240510T232629Z
UID:10778-1730966400-1730980800@ourlessonslearned.org
SUMMARY:First Annual Golf Tournament
DESCRIPTION:
URL:https://ourlessonslearned.org/event/first-annual-golf-tournament/
LOCATION:Stoneybrook West Golf Club\, 15501 Towne Commons Boulevard\, Winter Garden\, FL\, 34787\, United States
ATTACH;FMTTYPE=image/jpeg:https://ourlessonslearned.org/wp-content/uploads/2024/05/1.jpg
ORGANIZER;CN="Our Lessons Learned":MAILTO:lk@ourlessonslearned.org
END:VEVENT
BEGIN:VEVENT
DTSTART;TZID=America/New_York:20250111T080000
DTEND;TZID=America/New_York:20250111T120000
DTSTAMP:20260425T120204
CREATED:20241122T012943Z
LAST-MODIFIED:20241122T012943Z
UID:10940-1736582400-1736596800@ourlessonslearned.org
SUMMARY:Our Lessons Learned 2nd Annual 10k\, 5k\,& 2k Run & Walk
DESCRIPTION:
URL:https://ourlessonslearned.org/event/our-lessons-learned-2nd-annual-10k-5k-2k-run-walk/
LOCATION:Harbor Park\, 4990 New Broad Street\, Orlando\, FL\, 32814\, United States
ATTACH;FMTTYPE=image/png:https://ourlessonslearned.org/wp-content/uploads/2024/11/OLL-3rd-Annual-Run-Walk-Flyer-2160-x-1080-px.png
ORGANIZER;CN="Our Lessons Learned":MAILTO:lk@ourlessonslearned.org
END:VEVENT
BEGIN:VEVENT
DTSTART;TZID=America/New_York:20250822T180000
DTEND;TZID=America/New_York:20250822T200000
DTSTAMP:20260425T120204
CREATED:20250728T210214Z
LAST-MODIFIED:20250728T210214Z
UID:11135-1755885600-1755892800@ourlessonslearned.org
SUMMARY:Money Moves & Power Plays: A Financial Literacy Summit for Men
DESCRIPTION:
URL:https://ourlessonslearned.org/event/money-moves-power-plays-a-financial-literacy-summit-for-men/
LOCATION:Three Mask Inc.\, 1023 West Colonial Drive\, Orlando\, FL\, 32804\, United States
ATTACH;FMTTYPE=image/png:https://ourlessonslearned.org/wp-content/uploads/2025/07/5.png
ORGANIZER;CN="Our Lessons Learned":MAILTO:lk@ourlessonslearned.org
END:VEVENT
BEGIN:VEVENT
DTSTART;TZID=America/New_York:20260110T080000
DTEND;TZID=America/New_York:20260110T170000
DTSTAMP:20260425T120204
CREATED:20251022T162653Z
LAST-MODIFIED:20251022T162653Z
UID:11146-1768032000-1768064400@ourlessonslearned.org
SUMMARY:4th Annual Charity Sport Event
DESCRIPTION:
URL:https://ourlessonslearned.org/event/4th-annual-charity-sport-event/
LOCATION:Harbor Park\, 4990 New Broad Street\, Orlando\, FL\, 32814\, United States
ATTACH;FMTTYPE=image/png:https://ourlessonslearned.org/wp-content/uploads/2025/10/10.png
ORGANIZER;CN="Our Lessons Learned":MAILTO:lk@ourlessonslearned.org
END:VEVENT
BEGIN:VEVENT
DTSTART;TZID=America/New_York:20260718T100000
DTEND;TZID=America/New_York:20260718T140000
DTSTAMP:20260425T120204
CREATED:20260306T222358Z
LAST-MODIFIED:20260306T222358Z
UID:11156-1784368800-1784383200@ourlessonslearned.org
SUMMARY:Backpack to Balance
DESCRIPTION:
URL:https://ourlessonslearned.org/event/backpack-to-balance/
LOCATION:Callahan Neighborhood Center\, 101 N Parramore Ave\, Orlando\, FL\, 32801\, United States
ATTACH;FMTTYPE=image/jpeg:https://ourlessonslearned.org/wp-content/uploads/2026/03/Backpack-to-balance.jpg
ORGANIZER;CN="Our Lessons Learned":MAILTO:lk@ourlessonslearned.org
END:VEVENT
END:VCALENDAR